BEGIN:VCALENDAR
PRODID:-//Microsoft Corporation//Outlook 11.0 MIMEDIR//EN
VERSION:2.0
METHOD:PUBLISH
BEGIN:VEVENT
DTSTART:20260422T120000
LOCATION:La Ghironda, 6633 Lavertezzo Valle
TRANSP:OPAQUE
RRULE:FREQ=DAILY;INTERVAL=1
UID:eec85b43-033d-4725-aef3-f6849f33cd4d-0
DTSTAMP:20260422T120000
DESCRIPTION:Direct sales: goat cheese, sausages and meat from kid, lamb, pork.\n\n\nNote: This text was translated by machine translation software and not by a human translator. It may contain translation errors.\n\nhttp://www.laghironda.ch\n\nKontakt\nLa Ghironda\nGabriele & Mariapia Giottonini-Bisi\nLa Ghironda\n6633 Lavertezzo\n+41 79 371 25 38\n\nSale by phone agreement\n\n\nDas Angebot im Detail: https://www.guidle.com/angebote/656305339/store_in_la_ghironda_farm/lavertezzo_valle\nQuelle: https://www.myfarm.ch
SUMMARY:Store in La Ghironda farm
PRIORITY:5
X-MICROSOFT-CDO-IMPORTANCE:1
CLASS:PUBLIC
BEGIN:VALARM
TRIGGER:-P1D
ACTION:DISPLAY
DESCRIPTION:Reminder
END:VALARM
END:VEVENT
END:VCALENDAR