BEGIN:VCALENDAR
PRODID:-//Microsoft Corporation//Outlook 11.0 MIMEDIR//EN
VERSION:2.0
METHOD:PUBLISH
BEGIN:VEVENT
DTSTART:20260419T120000
LOCATION:Craistas 141, 7536 Sta. Maria Val Müstair
TRANSP:OPAQUE
RRULE:FREQ=DAILY;INTERVAL=1
UID:5e6d7934-c6f2-4eeb-8f13-ff1225d8ff3b-0
DTSTAMP:20260419T120000
DESCRIPTION:Die Familie Lamprecht lebt in der UNESCO Biosfera Val Müstair Parc Naziunal. Rico und Vreni sind auf dem Bio-Hof Pütschai Josom auf 1521 m.ü.M zuhause. Ihr Sohn Reto und Carmen mit ihren Kindern Julia, Sofia, Niculin und die Zwillinge Nino und Jon wohnen weiter oben auf dem Bio-Hof in Craistas auf 1875 m.ü.M. Zusammen betreiben sie in einer Generationengemeinschaft, den Mutterkuhhaltungsbetrieb. Auf dem Bio-Hof Pütschai Josom, den die Familie Lamprecht 2003 pachten konnten und 2009 gekauft haben, halten sie zusätzlich zur Mutterkuhherde einige Rinder, Ziegen, Kaninchen und Hühner. \n\nDas dazugehörende Haus ist, laut Denkmalpflege bis zu 900 Jahre alt und wurde im 1978 durch den alten Besitzer und 2009/10 durch die Lamprechts renoviert. Der alte Charakter und die Seele des Bauernhauses wurden jedoch stets erhalten. Seit 2010 steht das geschichtsträchtige Haus nun unseren Gästen für Ferien auf dem Bauernhof zur Verfügung.\n\nDer zweite Bio-Hof liegt in Craistas und wird schon seit vier Generationen von den Lamprechts betrieben. Bis 1990 war dies ein Milchbetrieb mit Kälbermast und orginal Braunvieh Zucht danach hat Rico den Schritt gewagt und den Hof auf Mutterkuhhaltung und Bio umgestellt. Heute werden alle Tiere der Rasse Limousin von der Familie direktvermarktet und es gelangt kein Tier in den Grosshandel. \n\nDie Kühe sind mit ihren Kälber den Sommer über auf der eigenen Alp Tabladatsch wo sie die saftigen Alpenkräuter und die schöne Aussicht übers Tal geniessen. Im Winter sind sie im Lauf-Stall mit permanenten Auslauf ins Freie und werden lediglich mit betriebseigenem Bio-Heu und Silage gefüttert.\n\nWenn sie mehr über die Familie Lamprecht und den Bauernhof erfahren wollen, schauen sie doch vorbei, geniessen sie ein paar Tage in der wunderschönen UNESCO Biosfera Val Müstair und tauchen sie ein, in das Erlebnis Pütschai Josom.\n\nhttp://www.pütschaijosom.ch\n\nKontakt\nPütschai Josom\nReto Lamprecht\nCraistas 141\n7536 Sta. Maria\n081 858 59 93\n079 812 59 93\n\nSie erhalten unser zartes Bio-Limousinfleisch direkt bei uns ab Hof. Bitte rufen Sie uns kurz vorher an, damit wir Sie beraten und bedienen können.\n\n\nDas Angebot im Detail: https://www.guidle.com/angebote/668940968/hofladen_putschai_josom/sta_maria_val_mustair\nQuelle: https://www.myfarm.ch
SUMMARY:Hofladen Pütschai Josom
PRIORITY:5
X-MICROSOFT-CDO-IMPORTANCE:1
CLASS:PUBLIC
BEGIN:VALARM
TRIGGER:-P1D
ACTION:DISPLAY
DESCRIPTION:Reminder
END:VALARM
END:VEVENT
END:VCALENDAR