BEGIN:VCALENDAR
PRODID:-//Microsoft Corporation//Outlook 11.0 MIMEDIR//EN
VERSION:2.0
METHOD:PUBLISH
BEGIN:VEVENT
DTSTART:20260420T120000
LOCATION:Steinbillen 581, 3419 Biembach im Emmental
TRANSP:OPAQUE
RRULE:FREQ=DAILY;INTERVAL=1
UID:b753a9ea-95d3-4e53-8d6f-52167c869d81-0
DTSTAMP:20260420T120000
DESCRIPTION:\n\nKontakt\nGrossenbacher\nLukas Grossenbacher\nSteinbillen 581\n3419 Biembach im Emmental\n034 461 47 75\n079 776 56 81\n\n\nDas Angebot im Detail: https://www.guidle.com/angebote/669703300/hofladen_grossenbacher/biembach_im_emmental\nQuelle: https://www.myfarm.ch
SUMMARY:Hofladen Grossenbacher
PRIORITY:5
X-MICROSOFT-CDO-IMPORTANCE:1
CLASS:PUBLIC
BEGIN:VALARM
TRIGGER:-P1D
ACTION:DISPLAY
DESCRIPTION:Reminder
END:VALARM
END:VEVENT
END:VCALENDAR