BEGIN:VCALENDAR
PRODID:-//Microsoft Corporation//Outlook 11.0 MIMEDIR//EN
VERSION:2.0
METHOD:PUBLISH
BEGIN:VEVENT
DTSTART:20260423T120000
LOCATION:A Larghèi 24, 6724 Largario
TRANSP:OPAQUE
RRULE:FREQ=DAILY;INTERVAL=1
UID:c430b56c-9ecf-48fc-b74f-40b1d836b036-0
DTSTAMP:20260423T120000
DESCRIPTION:Bergbauernhof in Largario im Bleniotal. Viehzucht der ursprünglichen Rasse Swiss Brown und Käseproduktion.\n\n\nHinweis: Dieser Text wurde von einer Software für maschinelle Übersetzungen und nicht von einem menschlichen Übersetzer übersetzt. Er kann Übersetzungsfehler aufweisen.\n\nhttp://www.aziendamartinali-valblenio.ch\n\nKontakt\nAzienda agricola Funtana\nMarina Martinali\nA Larghèi 24\n6724 Largario\n079 922 68 08\n\n\nDas Angebot im Detail: https://www.guidle.com/angebote/675085653/hofladen_bauernhof_funtana/largario\nQuelle: https://www.myfarm.ch
SUMMARY:Hofladen Bauernhof Funtana
PRIORITY:5
X-MICROSOFT-CDO-IMPORTANCE:1
CLASS:PUBLIC
BEGIN:VALARM
TRIGGER:-P1D
ACTION:DISPLAY
DESCRIPTION:Reminder
END:VALARM
END:VEVENT
END:VCALENDAR