BEGIN:VCALENDAR
PRODID:-//Microsoft Corporation//Outlook 11.0 MIMEDIR//EN
VERSION:2.0
METHOD:PUBLISH
BEGIN:VEVENT
DTSTART:20260423T120000
LOCATION:Alla Necropoli 750-400 a.C. 48, 6702 Claro
TRANSP:OPAQUE
RRULE:FREQ=DAILY;INTERVAL=1
UID:9d47ed98-0ba5-4597-beac-829e9fd45706-0
DTSTAMP:20260423T120000
DESCRIPTION:Verkauf von Ziegenprodukten\n\n\nHinweis: Dieser Text wurde von einer Software für maschinelle Übersetzungen und nicht von einem menschlichen Übersetzer übersetzt. Er kann Übersetzungsfehler aufweisen.\n\nKontakt\nFattoria dal Piz\nFlavia & Mattia Anastasìa & Waser\nAlla Necropoli 750-400 a.C. 48\n6702 Claro\n+41 79 357 08 66\n\nEs ist ein Selbstbedienungsrestaurant, das von Ostern bis Ende Mai geöffnet ist. 7/7 von 06:00 bis 20:00.\n\n\nDas Angebot im Detail: https://www.guidle.com/angebote/675461392/hofladen_fattoria_dal_piz/claro\nQuelle: https://www.myfarm.ch
SUMMARY:Hofladen Fattoria dal Piz
PRIORITY:5
X-MICROSOFT-CDO-IMPORTANCE:1
CLASS:PUBLIC
BEGIN:VALARM
TRIGGER:-P1D
ACTION:DISPLAY
DESCRIPTION:Reminder
END:VALARM
END:VEVENT
END:VCALENDAR