BEGIN:VCALENDAR
PRODID:-//Microsoft Corporation//Outlook 11.0 MIMEDIR//EN
VERSION:2.0
METHOD:PUBLISH
BEGIN:VEVENT
DTSTART:20260422T120000
LOCATION:Strada per Casima 36, 6875 Casima
TRANSP:OPAQUE
RRULE:FREQ=DAILY;INTERVAL=1
UID:a190a73d-f639-40bc-a5c6-505ef8ec0ecb-0
DTSTAMP:20260422T120000
DESCRIPTION:Wir befinden uns in Casima, einem Weiler mit 61 Einwohnern in der Schweizer Gemeinde Castel San Pietro, im Kanton Tessin (Bezirk Mendrisio). Inmitten der Natur züchten wir unsere Ziegen, um echte Qualitätsmilch zu garantieren; sie sind unser ganzer Stolz! Aber auch Ferkel, Sauen, Lämmer und Schafe finden Sie bei uns.\n\nHier ist das Leben noch schöner!\n\n\nHinweis: Dieser Text wurde von einer Software für maschinelle Übersetzungen und nicht von einem menschlichen Übersetzer übersetzt. Er kann Übersetzungsfehler aufweisen.\n\nKontakt\nAzienda Agricola e di Servizi Nusett di Pietro Livi\nPietro Livi\nStrada per Casima 36\n6875 Casima\n091 682 30 82\n079 239 02 14\n\n\nDas Angebot im Detail: https://www.guidle.com/angebote/678169646/hofladen_azienda_agricola_e_di_servizi_nusett_di_pietro_livi/casima\nQuelle: https://www.myfarm.ch
SUMMARY:Hofladen Azienda Agricola e di Servizi Nusett di Pietro Livi
PRIORITY:5
X-MICROSOFT-CDO-IMPORTANCE:1
CLASS:PUBLIC
BEGIN:VALARM
TRIGGER:-P1D
ACTION:DISPLAY
DESCRIPTION:Reminder
END:VALARM
END:VEVENT
END:VCALENDAR