BEGIN:VCALENDAR
PRODID:-//Microsoft Corporation//Outlook 11.0 MIMEDIR//EN
VERSION:2.0
METHOD:PUBLISH
BEGIN:VEVENT
DTSTART:20260422T120000
LOCATION:Mulino 17, 6852 Genestrerio
TRANSP:OPAQUE
RRULE:FREQ=DAILY;INTERVAL=1
UID:fddfa0c9-42b2-4502-a790-a272f2bc8cb3-0
DTSTAMP:20260422T120000
DESCRIPTION:Hier gibt es von allem ein bisschen, das meiste sind Tessiner Produkte, aus dem Mendrisiotto!\n\n\nHinweis: Dieser Text wurde von einer Software für maschinelle Übersetzungen und nicht von einem menschlichen Übersetzer übersetzt. Er kann Übersetzungsfehler aufweisen.\n\nhttp://www.paolapuricelli.ch\n\nKontakt\nAzienda Agricola Laveggio\nPaola Puricelli\nMulino 17\n6852 Genestrerio\n079 370 97 29\n\n\nDas Angebot im Detail: https://www.guidle.com/angebote/680864854/hofladen_azienda_agricola_laveggio/genestrerio\nQuelle: https://www.myfarm.ch
SUMMARY:Hofladen Azienda Agricola Laveggio
PRIORITY:5
X-MICROSOFT-CDO-IMPORTANCE:1
CLASS:PUBLIC
BEGIN:VALARM
TRIGGER:-P1D
ACTION:DISPLAY
DESCRIPTION:Reminder
END:VALARM
END:VEVENT
END:VCALENDAR