BEGIN:VCALENDAR
PRODID:-//Microsoft Corporation//Outlook 11.0 MIMEDIR//EN
VERSION:2.0
METHOD:PUBLISH
BEGIN:VEVENT
DTSTART:20260421T120000
LOCATION:Huebstrasse 3, 6370 Oberdorf NW
TRANSP:OPAQUE
RRULE:FREQ=DAILY;INTERVAL=1
UID:89709534-d7c5-4583-9dfa-a30f695b0241-0
DTSTAMP:20260421T120000
DESCRIPTION:Die Alp Bleiki...\n\n...auf 1400 Meter über Meer\n...auf der Sonnenseite des schönen Buochserhorns\n...unweit des autofreien Erhohlungsdörfchens Niederrickenbach\n...eingebettet in ein abwechslungsreiches Wandergebiet\n\nhttp://www.alpbleiki.ch\n\nKontakt\nAlpkäserei Bleiki\nPaul Barmettler\nHuebstrasse 3\n6370 Oberdorf NW\n+41 79 546 77 60\n\n24/7\n\n\nDas Angebot im Detail: https://www.guidle.com/angebote/685482278/hofladen_alpkaserei_bleiki/oberdorf_nw\nQuelle: https://www.myfarm.ch
SUMMARY:Hofladen Alpkäserei Bleiki
PRIORITY:5
X-MICROSOFT-CDO-IMPORTANCE:1
CLASS:PUBLIC
BEGIN:VALARM
TRIGGER:-P1D
ACTION:DISPLAY
DESCRIPTION:Reminder
END:VALARM
END:VEVENT
END:VCALENDAR