BEGIN:VCALENDAR
PRODID:-//Microsoft Corporation//Outlook 11.0 MIMEDIR//EN
VERSION:2.0
METHOD:PUBLISH
BEGIN:VEVENT
DTSTART:20260420T120000
LOCATION:Sulgerstrasse 17, 8575 Bürglen TG
TRANSP:OPAQUE
RRULE:FREQ=DAILY;INTERVAL=1
UID:07d6f600-47e8-4d1a-a017-aae3a52a1d6e-0
DTSTAMP:20260420T120000
DESCRIPTION:Reiner Ackerbaubetrieb mit Schafhaltung.\n\nhttp://www.schof-schüür.ch\n\nKontakt\nSchof Schüür\nAnja & Philipp Zingg\nSulgerstrasse 17\n8575 Bürglen TG\n+41 71 630 09 21\n+41 76 478 72 77\n\nMontag– Sonntag 9 - 19 Uhr\n\n\nDas Angebot im Detail: https://www.guidle.com/angebote/686186077/hofladen_schof_schuur/burglen_tg\nQuelle: https://www.myfarm.ch
SUMMARY:Hofladen Schof Schüür
PRIORITY:5
X-MICROSOFT-CDO-IMPORTANCE:1
CLASS:PUBLIC
BEGIN:VALARM
TRIGGER:-P1D
ACTION:DISPLAY
DESCRIPTION:Reminder
END:VALARM
END:VEVENT
END:VCALENDAR