BEGIN:VCALENDAR
PRODID:-//Microsoft Corporation//Outlook 11.0 MIMEDIR//EN
VERSION:2.0
METHOD:PUBLISH
BEGIN:VEVENT
DTSTART:20260423T120000
LOCATION:Belzstadel 39, 8585 Langrickenbach
TRANSP:OPAQUE
RRULE:FREQ=DAILY;INTERVAL=1
UID:80b281eb-6ba3-4ee4-bcb9-6a96e9c09824-0
DTSTAMP:20260423T120000
DESCRIPTION:Hier finden Sie rund um die Uhr tiefgekühlte Fleischstücke wie Hackfleisch, Koteletten, Braten,  Huftsteaks, Saftplätzli, Schnitzeli, Filet und viele mehr. Vom Rind und vom Säuli.\n\nHundefutter vom Rind haben wir portioniert und tiefgekühlt, fragen Sie uns einfach danach unter 0716900057\n\n(Nicht im Hoflädeli, nur auf Anfrage)\n\nOder probieren Sie  feine getrocknete und geräucherte Sachen wie Coppa, Buureschüblig, Mostbröckli, Landrauchschinken, Rauchmockä, und Buurespeck .\n\nBei uns können sie ganz einfach Bar oder mit Karte bezahlen. (ausser Post)\n\nWir freuen uns auf Ihren Besuch bei uns im Belzstadel an der Mattwilerstrasse.\n\nhttp://www.guets-fleisch.ch\n\nKontakt\nGuets-Fleisch\nElvira & Daniel Bachmann\nBelzstadel 39\n8585 Langrickenbach\n071 690 00 57\n\n\nDas Angebot im Detail: https://www.guidle.com/angebote/686871659/hofladen_guets-fleisch/langrickenbach\nQuelle: https://www.myfarm.ch
SUMMARY:Hofladen Guets-Fleisch
PRIORITY:5
X-MICROSOFT-CDO-IMPORTANCE:1
CLASS:PUBLIC
BEGIN:VALARM
TRIGGER:-P1D
ACTION:DISPLAY
DESCRIPTION:Reminder
END:VALARM
END:VEVENT
END:VCALENDAR