BEGIN:VCALENDAR
PRODID:-//Microsoft Corporation//Outlook 11.0 MIMEDIR//EN
VERSION:2.0
METHOD:PUBLISH
BEGIN:VEVENT
DTSTART:20260420T120000
LOCATION:Schlossstrasse 8, 3700 Spiez
TRANSP:OPAQUE
RRULE:FREQ=DAILY;INTERVAL=1
UID:dc7d4b95-f9c4-4820-ab57-f9a51dd75fd6-0
DTSTAMP:20260420T120000
DESCRIPTION:Der Spiezer Rebberg gehört zu den höchstgelegenen Rebbergen nördlich der Alpen. Dank guter Sortenwahl, dem Wärmespeicher Thunersee und dem Föhn gelingt es, frisch-fruchtige Weissweine und finessereiche, elegante duftig-fruchtige Rotweine zu keltern, welche Quervergleiche in Fachdegustationen der Schweiz nicht zu scheuen brauchen. Aus einem Glas Spiezer lässt sich die voralpine Landschaft lesen. Wir machen Charakterweine: authentisch, unaustauschbar und ehrlich! Stets der Qualität verpflichtet.\n\nGuter Wein ist Poesie, lädt zum Schwelgen ein und erzählt von unserem voralpinen «Terroir», wo Seewind und Alpensonne einzigartige Weine entstehen lassen:\n\nFrisch, frech und spritzig sind unsere Weissen verführerisch, duftig-verspielt der Rosé\nfruchtig, finessereich und würzig unsere Rotweine\n\nIhre Lieblingsweine können Sie bei uns kaufen, erleben und geniessen! Erleben sie unseren Wein mit uns, geniessen Sie ihn an einer Führung oder Degustation.\n\nhttp://www.alpineweinkultur.ch\n\nKontakt\nAlpine Weinkultur\nSpiezer Rebbau Spiez Genossenschaft\nSchlossstrasse 8\n3700 Spiez\n033 654 63 94\n\nWeinverkauf\n\nMontag bis Freitag von 8.00 bis 11.30 Uhr\n\nWeinverkauf mit Degustation\n\nMittwoch April – Dezember von 17.00 bis 19.00 Uhr\nSamstag 2. April – 2. Juli von 9.00 bis 11.30 Uhr\n\n\nDas Angebot im Detail: https://www.guidle.com/angebote/688188510/hofladen_alpine_weinkultur/spiez\nQuelle: https://www.myfarm.ch
SUMMARY:Hofladen Alpine Weinkultur
PRIORITY:5
X-MICROSOFT-CDO-IMPORTANCE:1
CLASS:PUBLIC
BEGIN:VALARM
TRIGGER:-P1D
ACTION:DISPLAY
DESCRIPTION:Reminder
END:VALARM
END:VEVENT
END:VCALENDAR