BEGIN:VCALENDAR
PRODID:-//Microsoft Corporation//Outlook 11.0 MIMEDIR//EN
VERSION:2.0
METHOD:PUBLISH
BEGIN:VEVENT
DTSTART:20260422T120000
LOCATION:Capelina 13, 6676 Bignasco
TRANSP:OPAQUE
RRULE:FREQ=DAILY;INTERVAL=1
UID:ff31313f-8af9-4400-8d0c-d7fe3a64107a-0
DTSTAMP:20260422T120000
DESCRIPTION:Verkauf des Bauernhofs\n\n\nHinweis: Dieser Text wurde von einer Software für maschinelle Übersetzungen und nicht von einem menschlichen Übersetzer übersetzt. Er kann Übersetzungsfehler aufweisen.\n\nKontakt\nAzienda agricola "Al ciochet"\nGiorgio Speziale\nCapelina 13\n6676 Bignasco\n091 754 20 63\n079 413 75 80\n\n\nDas Angebot im Detail: https://www.guidle.com/angebote/692980118/hofladen_al_ciochet_bauernhof/bignasco\nQuelle: https://www.myfarm.ch
SUMMARY:Hofladen "Al ciochet" Bauernhof
PRIORITY:5
X-MICROSOFT-CDO-IMPORTANCE:1
CLASS:PUBLIC
BEGIN:VALARM
TRIGGER:-P1D
ACTION:DISPLAY
DESCRIPTION:Reminder
END:VALARM
END:VEVENT
END:VCALENDAR