BEGIN:VCALENDAR
PRODID:-//Microsoft Corporation//Outlook 11.0 MIMEDIR//EN
VERSION:2.0
METHOD:PUBLISH
BEGIN:VEVENT
DTSTART:20260422T120000
LOCATION:Route d'Ogens 8, 1410 Thierrens
TRANSP:OPAQUE
RRULE:FREQ=DAILY;INTERVAL=1
UID:12aec9d4-2fc3-4784-bd98-2c5730de3342-0
DTSTAMP:20260422T120000
DESCRIPTION:Wir produzieren hochwertige Bio-Lebensmittel für eine gesunde und ausgewogene Ernährung.\n\n\nHinweis: Dieser Text wurde von einer Software für maschinelle Übersetzungen und nicht von einem menschlichen Übersetzer übersetzt. Er kann Übersetzungsfehler aufweisen.\n\nhttp://www.lafermeforestier.ch\n\nKontakt\nLa ferme Forestier\nKevin Forestier\nRoute d'Ogens 8\n1410 Thierrens\n079 581 92 13\n\nUnser Direktverkaufsladen ist donnerstags von 17:00 bis 19:00 Uhr und samstags von 9:00 bis 12:00 Uhr geöffnet. In der Zeit von Dezember bis Anfang März ist der Morgen in Selbstbedienung 6 Tage die Woche von 7:00 bis 19:00 Uhr.\n\n\nDas Angebot im Detail: https://www.guidle.com/angebote/698487744/hofladen_la_ferme_forestier/thierrens\nQuelle: https://www.myfarm.ch
SUMMARY:Hofladen La ferme Forestier
PRIORITY:5
X-MICROSOFT-CDO-IMPORTANCE:1
CLASS:PUBLIC
BEGIN:VALARM
TRIGGER:-P1D
ACTION:DISPLAY
DESCRIPTION:Reminder
END:VALARM
END:VEVENT
END:VCALENDAR