BEGIN:VCALENDAR
PRODID:-//Microsoft Corporation//Outlook 11.0 MIMEDIR//EN
VERSION:2.0
METHOD:PUBLISH
BEGIN:VEVENT
DTSTART:20260423T120000
LOCATION:Chemin des Jardins 4, 1279 Bogis-Bossey
TRANSP:OPAQUE
RRULE:FREQ=DAILY;INTERVAL=1
UID:58047e02-aee7-478c-81b0-7989b411af7a-0
DTSTAMP:20260423T120000
DESCRIPTION:Verkauf von Obst und Gemüse\n\n\nHinweis: Dieser Text wurde von einer Software für maschinelle Übersetzungen und nicht von einem menschlichen Übersetzer übersetzt. Er kann Übersetzungsfehler aufweisen.\n\nKontakt\nLes Jardins de l'Ecossiau\nRichard Bourguignon\nChemin des Jardins 4\n1279 Bogis-Bossey\n079 241 03 21\n\n\nDas Angebot im Detail: https://www.guidle.com/angebote/716775848/hofladen_les_jardins_de_lecossiau/bogis-bossey\nQuelle: https://www.myfarm.ch
SUMMARY:Hofladen Les Jardins de l'Ecossiau
PRIORITY:5
X-MICROSOFT-CDO-IMPORTANCE:1
CLASS:PUBLIC
BEGIN:VALARM
TRIGGER:-P1D
ACTION:DISPLAY
DESCRIPTION:Reminder
END:VALARM
END:VEVENT
END:VCALENDAR