BEGIN:VCALENDAR
PRODID:-//Microsoft Corporation//Outlook 11.0 MIMEDIR//EN
VERSION:2.0
METHOD:PUBLISH
BEGIN:VEVENT
DTSTART:20260420T120000
LOCATION:Rankhof 1, 6208 Oberkirch LU
TRANSP:OPAQUE
RRULE:FREQ=DAILY;INTERVAL=1
UID:0dd76fb3-7574-443f-b5d1-921565959018-0
DTSTAMP:20260420T120000
DESCRIPTION:Ab sofort können Sie unsere alkoholfreien Produkte und Spezialitäten aus der Region einfach bei uns direkt aus unserem Hoflädeli 24 beziehen.\n\nhttps://rankhof-oberkirch.ch\n\nKontakt\nRankhof Oberkirch\nJonas Hunkeler\nRankhof 1\n6208 Oberkirch LU\n079 157 44 57\n\n24/7\n\n\nDas Angebot im Detail: https://www.guidle.com/angebote/730784063/hofladen_rankhof_oberkirch/oberkirch_lu\nQuelle: https://www.myfarm.ch
SUMMARY:Hofladen Rankhof Oberkirch
PRIORITY:5
X-MICROSOFT-CDO-IMPORTANCE:1
CLASS:PUBLIC
BEGIN:VALARM
TRIGGER:-P1D
ACTION:DISPLAY
DESCRIPTION:Reminder
END:VALARM
END:VEVENT
END:VCALENDAR