BEGIN:VCALENDAR
PRODID:-//Microsoft Corporation//Outlook 11.0 MIMEDIR//EN
VERSION:2.0
METHOD:PUBLISH
BEGIN:VEVENT
DTSTART:20260423T120000
LOCATION:Pedemonte 17, 6710 Biasca
TRANSP:OPAQUE
RRULE:FREQ=DAILY;INTERVAL=1
UID:e8c3a4e5-666f-4af6-bf5f-8990bf6ff8b4-0
DTSTAMP:20260423T120000
DESCRIPTION:Die Milch unseres Bauernhofs wird in unserer kleinen Molkerei zu frischen und gewürzten Qualitätsprodukten verarbeitet. Im Kühlschrank, in der Verkaufsstelle in Pedemonte, können Sie finden:\n\n1. Formaggella grassa\n\n2. Büscion \n\n3. Käse\n\n\nHinweis: Dieser Text wurde von einer Software für maschinelle Übersetzungen und nicht von einem menschlichen Übersetzer übersetzt. Er kann Übersetzungsfehler aufweisen.\n\nhttp://lafestuca.ch/\n\nKontakt\nla festuca\nEbe, Vito Bortolotti\nPedemonte 17\n6710 Biasca\n079 709 69 33\n079 848 91 20\n\n24/7\n\n\nDas Angebot im Detail: https://www.guidle.com/angebote/731612132/hofladen_la_festuca/biasca\nQuelle: https://www.myfarm.ch
SUMMARY:Hofladen la festuca
PRIORITY:5
X-MICROSOFT-CDO-IMPORTANCE:1
CLASS:PUBLIC
BEGIN:VALARM
TRIGGER:-P1D
ACTION:DISPLAY
DESCRIPTION:Reminder
END:VALARM
END:VEVENT
END:VCALENDAR