BEGIN:VCALENDAR
PRODID:-//Microsoft Corporation//Outlook 11.0 MIMEDIR//EN
VERSION:2.0
METHOD:PUBLISH
BEGIN:VEVENT
DTSTART:20260423T120000
LOCATION:-, 6515 Gudo
TRANSP:OPAQUE
RRULE:FREQ=DAILY;INTERVAL=1
UID:e7fd698f-f84f-47cb-a099-65b183b81ae1-0
DTSTAMP:20260423T120000
DESCRIPTION:Polo Agricolo, en partie horticulture biologique, en partie exploitation d'élevage en cours de conversion à l'agriculture biologique. Nous conseillons aux enseignants de réserver à l'avance et, s'ils ne connaissent pas l'exploitation, de procéder à une inspection.\n\n\nNote : Ce texte a été traduit par un logiciel de traduction automatique et non par un traducteur humain. Il peut contenir des erreurs de traduction.\n\nKontakt\nPolo Agricolo\nFondazione Diamante Polo Agricolo\n-\n6515 Gudo\n091 858 12 20\n\nlu-ve\nhiver\n07.30 - 12.00 / 13.00 - 16.30\nprintemps - automne\n07.00 - 12.00 / 13.00 - 16.00\nété\n06.30 - 12.00 / 13.00 - 15.30\n\n\nDas Angebot im Detail: https://www.guidle.com/angebote/731807302/magasin_agricole_polo_agricolo/gudo\nQuelle: https://www.myfarm.ch
SUMMARY:Magasin agricole Polo Agricolo
PRIORITY:5
X-MICROSOFT-CDO-IMPORTANCE:1
CLASS:PUBLIC
BEGIN:VALARM
TRIGGER:-P1D
ACTION:DISPLAY
DESCRIPTION:Reminder
END:VALARM
END:VEVENT
END:VCALENDAR