BEGIN:VCALENDAR
PRODID:-//Microsoft Corporation//Outlook 11.0 MIMEDIR//EN
VERSION:2.0
METHOD:PUBLISH
BEGIN:VEVENT
DTSTART:20260423T120000
LOCATION:via ai Pau 19, 6951 Bogno
TRANSP:OPAQUE
RRULE:FREQ=DAILY;INTERVAL=1
UID:56d2e374-47c5-4f36-96fb-b43e2b3634cd-0
DTSTAMP:20260423T120000
DESCRIPTION:Zucht von Hochlandrindern und Grauziegen\n\n\nHinweis: Dieser Text wurde von einer Software für maschinelle Übersetzungen und nicht von einem menschlichen Übersetzer übersetzt. Er kann Übersetzungsfehler aufweisen.\n\nKontakt\nAlpe Corte\nLuca Chiappa\nvia ai Pau 19\n6951 Bogno\n+41 79 337 24 20\n\n\nDas Angebot im Detail: https://www.guidle.com/angebote/734235321/hofladen_alpe_corte/bogno\nQuelle: https://www.myfarm.ch
SUMMARY:Hofladen Alpe Corte
PRIORITY:5
X-MICROSOFT-CDO-IMPORTANCE:1
CLASS:PUBLIC
BEGIN:VALARM
TRIGGER:-P1D
ACTION:DISPLAY
DESCRIPTION:Reminder
END:VALARM
END:VEVENT
END:VCALENDAR