BEGIN:VCALENDAR
PRODID:-//Microsoft Corporation//Outlook 11.0 MIMEDIR//EN
VERSION:2.0
METHOD:PUBLISH
BEGIN:VEVENT
DTSTART:20260423T120000
LOCATION:Rue Antoine Saladin 8, 1299 Crans (VD)
TRANSP:OPAQUE
RRULE:FREQ=DAILY;INTERVAL=1
UID:048fd5d7-31c7-447e-8f1f-0b244a2faa9b-0
DTSTAMP:20260423T120000
DESCRIPTION:In 2012, Gilles pilloud obtained his federal wine merchant's diploma and took over the reins of the Château de Crans estate, perpetuating the heritage passed down to him, while developing his own vision of wine. In 2013, he seized the opportunity to also take over the Domaine des Gourmets (4.5 hectares) in Féchy.\n\nThe vineyard was already referenced in the year 1200. It is located in the commune of Crans-près-Céligny and today covers 12.7 hectares.\nApproximately 10.7 hectares of vines are planted in front of the Château and up to the lakeside, and a further 2 hectares in the direction of Nyon at the Bois neuf.\n\nAround ten grape varieties are grown in the vineyard.\n\n\nNote: This text was translated by machine translation software and not by a human translator. It may contain translation errors.\n\nhttps://chateau-de-crans.ch/\n\nKontakt\nChâteau de Crans\nGilles Pilloud\nRue Antoine Saladin 8\n1299 Crans-près-Céligny\n022 776 34 04\n\nYou can taste our wines at the Caveau during opening hours.\n\nEvery Thursday from 4:30 to 6:30 pm\nEvery Saturday from 9am to 12pm)\nOr by appointment (Monday - Friday).\n\n\nDas Angebot im Detail: https://www.guidle.com/angebote/750756527/farm_store_chateau_de_crans/crans_vd\nQuelle: https://www.myfarm.ch
SUMMARY:Farm store Château de Crans
PRIORITY:5
X-MICROSOFT-CDO-IMPORTANCE:1
CLASS:PUBLIC
BEGIN:VALARM
TRIGGER:-P1D
ACTION:DISPLAY
DESCRIPTION:Reminder
END:VALARM
END:VEVENT
END:VCALENDAR