BEGIN:VCALENDAR
PRODID:-//Microsoft Corporation//Outlook 11.0 MIMEDIR//EN
VERSION:2.0
METHOD:PUBLISH
BEGIN:VEVENT
DTSTART:20260423T120000
LOCATION:Rachholtern 69, 3617 Fahrni b. Thun
TRANSP:OPAQUE
RRULE:FREQ=DAILY;INTERVAL=1
UID:5d91b89e-603b-4f87-a443-de768cb2486d-0
DTSTAMP:20260423T120000
DESCRIPTION:In unserem Hoflädeli verkaufen wir Einzelstücke unserer Beef. Bestellungen für Mischpakete ebenfalls möglich. \nSüssmost, saisonal auch Früchte, Deckäste und Weihnachtsbäume\n\nKontakt\nFankhauser Beef\nStefan Fankhauser\nRachholtern 69\n3617 Fahrni b. Thun\n079 204 52 49\n\n\nDas Angebot im Detail: https://www.guidle.com/angebote/785410700/hofladen_fankhauser_beef/fahrni_b_thun\nQuelle: https://www.myfarm.ch
SUMMARY:Hofladen Fankhauser Beef
PRIORITY:5
X-MICROSOFT-CDO-IMPORTANCE:1
CLASS:PUBLIC
BEGIN:VALARM
TRIGGER:-P1D
ACTION:DISPLAY
DESCRIPTION:Reminder
END:VALARM
END:VEVENT
END:VCALENDAR