BEGIN:VCALENDAR
PRODID:-//Microsoft Corporation//Outlook 11.0 MIMEDIR//EN
VERSION:2.0
METHOD:PUBLISH
BEGIN:VEVENT
DTSTART:20260422T120000
LOCATION:a Cassì 33, 6722 Corzoneso
TRANSP:OPAQUE
RRULE:FREQ=DAILY;INTERVAL=1
UID:2625b4ef-7aae-4e9f-8f1a-3f173d7fb903-0
DTSTAMP:20260422T120000
DESCRIPTION:Luigi Arcioni's farm was founded thanks to his father's passion.\n\nThis passion has been skillfully passed on to the \n\nnext generation, thanks to this today Luigi Arcioni carries on the management of the farm.\n\n\nNote: This text was translated by machine translation software and not by a human translator. It may contain translation errors.\n\nhttps://www.luigiarcioni.ch/\n\nKontakt\nAzienda agricola Luigi Arcioni\nLuigi Arcioni\na Cassì 33\n6722 Corzoneso\n091 871 20 68\n079 353 98 28\n\nBy appointment or by prior arrangement.\n\n\nDas Angebot im Detail: https://www.guidle.com/angebote/799225238/farm_store_luigi_arcioni_farm/corzoneso\nQuelle: https://www.myfarm.ch
SUMMARY:Farm store Luigi Arcioni farm
PRIORITY:5
X-MICROSOFT-CDO-IMPORTANCE:1
CLASS:PUBLIC
BEGIN:VALARM
TRIGGER:-P1D
ACTION:DISPLAY
DESCRIPTION:Reminder
END:VALARM
END:VEVENT
END:VCALENDAR