BEGIN:VCALENDAR
PRODID:-//Microsoft Corporation//Outlook 11.0 MIMEDIR//EN
VERSION:2.0
METHOD:PUBLISH
BEGIN:VEVENT
DTSTART:20260708T133000
DTEND:20260708T153000
LOCATION:Gonzen Bergwerk Vilderstrasse 17, 7320 Sargans
TRANSP:OPAQUE
SEQUENCE:0
UID:b5934aae-144a-4146-bc4a-0eb0eead57d8-0
DTSTAMP:20260708T133000
DESCRIPTION:Die Führung beginnt mit einem Film, der viele Informationen zum Gonzen und seiner Geschichte liefert. Danach fahren die Besucher mit dem „Gonzen-Zügli“ rund zwei Kilometer durch den Basisstollen ins Berginnere. Ab dem dortigen Bahnhof bietet ein interessanter Rundgang zu Fuss einen Überblick über einen Teil der Anlagen des Bergwerks und des Erzlagers.\n\nhttp://www.bergwerk-gonzen.ch\n\nKontakt\nBergwerk Gonzen\nVerein Pro Gonzenbergwerk\nVild 17\nSt.Gallerstrasse\n7320 Sargans\n081 723 12 17 (Verein)\n\nVerfügbarkeit / Datum, Zeit\n8.7.2026 13:30 - 15:30\n12.7.2026 13:30 - 15:30\n15.7.2026 13:30 - 15:30\n18.7.2026 13:30 - 15:30\n22.7.2026 13:30 - 15:30\n24.7.2026 13:30 - 15:30\n29.7.2026 13:30 - 15:30\n1.8.2026 13:30 - 15:30\n3.8.2026 13:30 - 15:30\n5.8.2026 13:30 - 15:30\n12.8.2026 13:30 - 15:30\n7.10.2026 13:30 - 15:30\n10.10.2026 13:30 - 15:30\n14.10.2026 13:30 - 15:30\n\nPreis\nCHF 15.00 Erwachsene \nCHF 10.00 Kinder\n\n\nDas Angebot im Detail: https://www.guidle.com/angebote/974474829/ferien-fuhrungen_im_bergwerk_gonzen/sargans\nQuelle: https://www.myfarm.ch
SUMMARY:Ferien-Führungen im Bergwerk Gonzen
PRIORITY:5
X-MICROSOFT-CDO-IMPORTANCE:1
CLASS:PUBLIC
BEGIN:VALARM
TRIGGER:-P1D
ACTION:DISPLAY
DESCRIPTION:Reminder
END:VALARM
END:VEVENT
END:VCALENDAR